BEGIN:VCALENDAR
VERSION:2.0
PRODID:-//Guernsey Finance//Guernsey Finance Events//EN
BEGIN:VEVENT
SUMMARY:SuperReturn North America
DESCRIPTION:https://guernseyfinance.azurewebsites.net/events/2025/superreturn-north-america/
DTSTART:20250317T080000
DTEND:20250319T173000
LOCATION:The Intercontinental Hotel,
 100 Chopin Plaza,
 Miami,
 FL 33131
END:VEVENT
END:VCALENDAR
